BEGIN:VCALENDAR
VERSION:2.0
PRODID:-//Wisconsin WIC Association - ECPv6.15.20//NONSGML v1.0//EN
CALSCALE:GREGORIAN
METHOD:PUBLISH
X-WR-CALNAME:Wisconsin WIC Association
X-ORIGINAL-URL:https://www.wiwica.org
X-WR-CALDESC:Events for Wisconsin WIC Association
REFRESH-INTERVAL;VALUE=DURATION:PT1H
X-Robots-Tag:noindex
X-PUBLISHED-TTL:PT1H
BEGIN:VTIMEZONE
TZID:America/Chicago
BEGIN:DAYLIGHT
TZOFFSETFROM:-0600
TZOFFSETTO:-0500
TZNAME:CDT
DTSTART:20240310T080000
END:DAYLIGHT
BEGIN:STANDARD
TZOFFSETFROM:-0500
TZOFFSETTO:-0600
TZNAME:CST
DTSTART:20241103T070000
END:STANDARD
BEGIN:DAYLIGHT
TZOFFSETFROM:-0600
TZOFFSETTO:-0500
TZNAME:CDT
DTSTART:20250309T080000
END:DAYLIGHT
BEGIN:STANDARD
TZOFFSETFROM:-0500
TZOFFSETTO:-0600
TZNAME:CST
DTSTART:20251102T070000
END:STANDARD
BEGIN:DAYLIGHT
TZOFFSETFROM:-0600
TZOFFSETTO:-0500
TZNAME:CDT
DTSTART:20260308T080000
END:DAYLIGHT
BEGIN:STANDARD
TZOFFSETFROM:-0500
TZOFFSETTO:-0600
TZNAME:CST
DTSTART:20261101T070000
END:STANDARD
END:VTIMEZONE
BEGIN:VEVENT
DTSTART;TZID=America/Chicago:20250826T120000
DTEND;TZID=America/Chicago:20250826T130000
DTSTAMP:20260421T111615
CREATED:20250722T204602Z
LAST-MODIFIED:20250812T165634Z
UID:5132-1756209600-1756213200@www.wiwica.org
SUMMARY:Beyond Picky Eating
DESCRIPTION:Is it more than just picky eating? \nSpeakers Mary Marcus\, MS\, RD\, CD\, LDN and Dr. Maria Stanley\, MD\, UW Waisman Center Developmental Behavioral Pediatrician and UW Department of Pediatrics Developmental and Genetics Division Chief will talk about pediatric feeding disorder\, defined as impaired oral intake that is not age-appropriate\, and is associated with medical\, nutritional\, feeding skill\, and/or psychosocial dysfunction. You will leave this talk more confident talking with WIC families about picky eating.  \nCost is free\, registration is required.  \nWWA has not pursued CEUs with CDR for this event. \nInterested in other continuing education opportunities? Visit the WWA education page.  \n \n\n\n\n\n\nWWA Mission \nThe mission of the Wisconsin WIC Association (WWA) is to inspire and empower the Wisconsin WIC community to advocate for and promote quality nutrition services and assure effectiveness through collaboration\, cooperation and education. \nWWA Vision \nWisconsin WIC Association is the leader in advocating for the voices of the WIC community.
URL:https://www.wiwica.org/event/beyond-picky-eating/
LOCATION:Virtual
CATEGORIES:Lunch & Learn
END:VEVENT
END:VCALENDAR